Workbook
Name Z_1E16E43F_F033_464B_BD4C_542294C0AEF5_.wvu.Cols: '1_ATL_GSL'!$R:$R
Name Z_1E16E43F_F033_464B_BD4C_542294C0AEF5_.wvu.PrintArea: '1_ATL_GSL'!$B$2:$K$49
Name Z_1E16E43F_F033_464B_BD4C_542294C0AEF5_.wvu.PrintArea: '3_PE_GP'!$B$2:$K$249
Name Z_1E16E43F_F033_464B_BD4C_542294C0AEF5_.wvu.PrintArea: '4_PPE_GPP'!$B$2:$K$54
Name Z_1E16E43F_F033_464B_BD4C_542294C0AEF5_.wvu.PrintArea: '5_OE_OG'!$B$2:$K$30
Name Z_1E16E43F_F033_464B_BD4C_542294C0AEF5_.wvu.PrintArea: 'Main | Principal'!$B$2:$H$60
Name Z_1E16E43F_F033_464B_BD4C_542294C0AEF5_.wvu.PrintTitles: '1_ATL_GSL'!$2:$4
Name Z_1E16E43F_F033_464B_BD4C_542294C0AEF5_.wvu.PrintTitles: '2_PRE_GPRE'!$2:$4
Name Z_1E16E43F_F033_464B_BD4C_542294C0AEF5_.wvu.PrintTitles: '3_PE_GP'!$2:$4
Name Z_1E16E43F_F033_464B_BD4C_542294C0AEF5_.wvu.PrintTitles: '4_PPE_GPP'!$2:$4
Name Z_1E16E43F_F033_464B_BD4C_542294C0AEF5_.wvu.PrintTitles: '5_OE_OG'!$2:$4
Name Z_1E16E43F_F033_464B_BD4C_542294C0AEF5_.wvu.PrintTitles: 'Main | Principal'!$2:$4

Sheet Tutorial
B1: Instrucciones para completar información del presupuesto del proyecto
B2: Por favor complete la información requerida sobre el presupuesto del proyecto en las hojas 1_Gastos sobre la línea (GSL) 2_Gastos de Pre Producción (GPRE), 3_Gastos de Producción (GP) , 4_Gastos de Post Producción (GPP) y 5 _Otros Gastos (OG).
B3: Solamente puede completarse información en las celdas en color amarillo.
B4: En la columna ELEGIBLE debe seleccionarse la opción YES/SI si el gasto corresponde a actividades elegibles de acuerdo a las Bases de la convocatoria. Las celdas bloqueadas con NO no son elegibles para este programa. Recuerde que los gastos no elegibles no forman parte del presupuesto del proyecto objeto de reembolso.
B5: Complete la Cantidad, Unidad (Gobal, Unidad, Dia, etc, según corresponda ) e Importe en $ Uruguayos del bien o servicio indicado en cada fila. El costo es el producto entre la Cantidad y el Importe unitario. Realice las aclaraciones necesarias en la casilla Descripción al final de cada fila completada.
B6: La hoja "Principal" resume la información completada en las hojas 1, 2, 3, 4 y 5 y no requiere información adicional.
B9: Instructions for completing project budget infomation
B10: Please complete the information requested about the budget of the project in sheets 1_:Above the line (ATL), 2_Pre Production Expenses (PE), 3_Production Expenses (PE), 4 Postproduction Expenses (PPE) and 5_Other Expenses (OE).
B11: Information can be completed only in yellow cells.
B12: In the column ELIGIBLE select YES if the expenses belong to elegible activities according to the Term Sheet of the call. Cells blocked with NO are not elegible for this program. Remember that non elegible expenses are not part of the project budget for reimbursement.
B13: Complete QTY, UNIT (Gobal, Unit, Day, etc, as necessary), RATE $ Uruguayos of the good or service indicated in each line. The cost is the product of QTY by RATE. Give any necessary notes on a brief DESCRIPTION at the end of each completed line.
B14: The sheet "Main" summarizes the information completed in sheets 1, 2, 3, 4 and 5, and does not require additional information.

Sheet Main | Principal
B4: PUA - REALIZACIÓN DE PRODUCCIONES NACIONALES - LÍNEA A: PRODUCCIÓN Y POSTPRODUCCIÓN
B5: Date / Fecha ../../.. | D5: PROYECTO:
F6: SUBMISSION BUDGET
B7: ABOVE THE LINE | SOBRE LA LÍNEA | F7: TOTAL | G7: TOTAL ELIGIBLE | H7: REEMBOLSO
B8: 001 | C8: Development Costs | D8: Costos de Desarrollo | E8: 1 | F8: =SUM('1_ATL_GSL'!J11) -> 0 | G8: =SUM('1_ATL_GSL'!K11) -> 0 | H8: ='1_ATL_GSL'!M11 -> 0
B9: 002 | C9: Story & Rights | D9: Guión y derechos | E9: 1 | F9: =SUM('1_ATL_GSL'!J19) -> 0 | G9: =SUM('1_ATL_GSL'!K19) -> 0 | H9: ='1_ATL_GSL'!M19 -> 0
B10: 003 | C10: Producer Unit | D10: Producción | E10: 1 | F10: =SUM('1_ATL_GSL'!J25) -> 0 | G10: =SUM('1_ATL_GSL'!K25) -> 0 | H10: ='1_ATL_GSL'!M25 -> 0
B11: 004 | C11: Director & Staff | D11: Dirección | E11: 1 | F11: =SUM('1_ATL_GSL'!J33) -> 0 | G11: =SUM('1_ATL_GSL'!K33) -> 0 | H11: ='1_ATL_GSL'!M33 -> 0
B12: 005 | C12: Cast | D12: Elenco | E12: 1 | F12: =SUM('1_ATL_GSL'!J42) -> 0 | G12: =SUM('1_ATL_GSL'!K42) -> 0 | H12: ='1_ATL_GSL'!M42 -> 0
B13: 006 | C13: Travel & Living | D13: Transporte y Alojamiento | E13: 1 | F13: =SUM('1_ATL_GSL'!J49) -> 0 | G13: =SUM('1_ATL_GSL'!K49) -> 0 | H13: ='1_ATL_GSL'!M49 -> 0
B14: TOTAL ABOVE THE LINE | TOTAL SOBRE LA LINEA - $ Uruguayos | F14: =SUM(F8:F13) -> 0 | G14: =SUM(G8:G13) -> 0 | H14: =SUM(H8:H13) -> 0
F16: SUBMISSION BUDGET
B17: PRE & WRAP PRODUCTION EXPENSES | GASTOS DE PRE PRODUCCIÓN Y CIERRE- | F17: TOTAL | G17: TOTAL ELIGIBLE | H17: REEMBOLSO
B18: 007 | C18: Production Staff | D18: Equipo Técnico | E18: 2 | F18: ='2_PRE_GPRE'!J48 -> 0 | G18: ='2_PRE_GPRE'!K48 -> 0 | H18: ='2_PRE_GPRE'!M48 -> 0
B19: 008 | C19: Casting exprenses | D19: Gastos casting | E19: 2 | F19: ='2_PRE_GPRE'!J55 -> 0 | G19: ='2_PRE_GPRE'!K55 -> 0 | H19: ='2_PRE_GPRE'!M55 -> 0
B20: 009 | C20: Scouting | D20: Scouting | E20: 2 | F20: ='2_PRE_GPRE'!J61 -> 0 | G20: ='2_PRE_GPRE'!K61 -> 0 | H20: ='2_PRE_GPRE'!M61 -> 0
B21: 010 | C21: Pre production expenses | D21: Gastos de Pre Producción | E21: 2 | F21: ='2_PRE_GPRE'!J68 -> 0 | G21: ='2_PRE_GPRE'!K68 -> 0 | H21: ='2_PRE_GPRE'!M68 -> 0
B22: TOTAL PRE PRODUCTION EXPENSES | TOTAL GASTOS DE PRE PRODUCCIÓN - $ Uruguayos | F22: =SUM(F18:F21) -> 0 | G22: =SUM(G18:G21) -> 0 | H22: =SUM(H18:H21) -> 0
F24: SUBMISSION BUDGET
B25: PRODUCTION EXPENSES | GASTOS DE PRODUCCIÓN | F25: TOTAL | G25: TOTAL ELIGIBLE | H25: REEMBOLSO
B26: 011 | C26: Production Staff | D26: Equipo Técnico | E26: 3 | F26: =SUM('3_PE_GP'!J66) -> 0 | G26: =SUM('3_PE_GP'!K66) -> 0 | H26: ='3_PE_GP'!M66 -> 0
B27: 012 | C27: Extra Talent | D27: Elenco Extra | E27: 3 | F27: =SUM('3_PE_GP'!J75) -> 0 | G27: =SUM('3_PE_GP'!K75) -> 0 | H27: ='3_PE_GP'!M75 -> 0
B28: 013 | C28: Set Design | D28: Diseño de Arte | E28: 3 | F28: =SUM('3_PE_GP'!J82) -> 0 | G28: =SUM('3_PE_GP'!K82) -> 0 | H28: ='3_PE_GP'!M82 -> 0
B29: 014 | C29: Set Construction | D29: Escenografía | E29: 3 | F29: =SUM('3_PE_GP'!J93) -> 0 | G29: =SUM('3_PE_GP'!K93) -> 0 | H29: ='3_PE_GP'!M93 -> 0
B30: 015 | C30: Set Dressing | D30: Ambientación | E30: 3 | F30: =SUM('3_PE_GP'!J105) -> 0 | G30: =SUM('3_PE_GP'!K105) -> 0 | H30: ='3_PE_GP'!M105 -> 0
B31: 016 | C31: Property | D31: Utilería | E31: 3 | F31: =SUM('3_PE_GP'!J114) -> 0 | G31: =SUM('3_PE_GP'!K114) -> 0 | H31: ='3_PE_GP'!M114 -> 0
B32: 017 | C32: Wardrobe | D32: Vestuario | E32: 3 | F32: =SUM('3_PE_GP'!J124) -> 0 | G32: =SUM('3_PE_GP'!K124) -> 0 | H32: ='3_PE_GP'!M124 -> 0
B33: 018 | C33: Equipment | D33: Equipamiento | E33: 3 | F33: =SUM('3_PE_GP'!J159) -> 0 | G33: =SUM('3_PE_GP'!K159) -> 0 | H33: ='3_PE_GP'!M159 -> 0
B34: 019 | C34: Make-up & Hair | D34: Maquillaje & Peluquería | E34: 3 | F34: =SUM('3_PE_GP'!J167) -> 0 | G34: =SUM('3_PE_GP'!K167) -> 0 | H34: ='3_PE_GP'!M167 -> 0
B35: 020 | C35: Transportation | D35: Transporte | E35: 3 | F35: =SUM('3_PE_GP'!J186) -> 0 | G35: =SUM('3_PE_GP'!K186) -> 0 | H35: ='3_PE_GP'!M186 -> 0
B36: 021 | C36: Locations | D36: Locaciones | E36: 3 | F36: =SUM('3_PE_GP'!J200) -> 0 | G36: =SUM('3_PE_GP'!K200) -> 0 | H36: ='3_PE_GP'!M200 -> 0
B37: 022 | C37: Picture Vehicles & Animals | D37: Vehículos y Animales | E37: 3 | F37: =SUM('3_PE_GP'!J211) -> 0 | G37: =SUM('3_PE_GP'!K211) -> 0 | H37: ='3_PE_GP'!M211 -> 0
B38: 023 | C38: Special Effects | D38: Efectos Especiales | E38: 3 | F38: =SUM('3_PE_GP'!J221) -> 0 | G38: =SUM('3_PE_GP'!K221) -> 0 | H38: ='3_PE_GP'!M221 -> 0
B39: 024 | C39: Visual Effects - Post | D39: Efectos Visuales - Rodaje | E39: 3 | F39: =SUM('3_PE_GP'!J229) -> 0 | G39: =SUM('3_PE_GP'!K229) -> 0 | H39: ='3_PE_GP'!M229 -> 0
B40: 025 | C40: Film & Lab - Data - Connectivity | D40: Film & Lab - Datos - Conectividad | E40: 3 | F40: =SUM('3_PE_GP'!J239) -> 0 | G40: =SUM('3_PE_GP'!K239) -> 0 | H40: ='3_PE_GP'!M239 -> 0
B41: 026 | C41: BTL Travel | D41: Viajes BLL | E41: 3 | F41: =SUM('3_PE_GP'!J249) -> 0 | G41: =SUM('3_PE_GP'!K249) -> 0 | H41: ='3_PE_GP'!M249 -> 0
B42: TOTAL PRODUCTION EXPENSES | TOTAL GASTOS DE PRODUCCIÓN - $ Uruguayos | F42: =SUM(F26:F41) -> 0 | G42: =SUM(G26:G41) -> 0 | H42: =SUM(H26:H41) -> 0
F44: SUBMISSION BUDGET
B45: POST-PRODUCTION | POST-PRODUCCIÓN | F45: TOTAL | G45: TOTAL ELIGIBLE | H45: REEMBOLSO
B46: 027 | C46: Film Editing | D46: Edición de Imagen | E46: 4 | F46: =D43 -> 0 | G46: =SUM('4_PPE_GPP'!K17) -> 0 | H46: ='4_PPE_GPP'!M17 -> 0
...

Sheet 1_ATL_GSL
B2: Please complete informaton in the yellow cells / Por favor complete la información en las celdas amarillas | R2: YES / SI
R3: NO
D4: ABOVE THE LINE | GASTOS SOBRE LA LINEA - SUBMISSION BUDGET | PRESUPUESTO DE POSTULACIÓN
B5: 001 | C5: ELEGIBLE? Select YES from dropdown menu / Seleccionar SI de lista desplegable | D5: DEVELOPMENT COSTS | COSTOS DE DESARROLLO | F5: QTY /Cantidad | G5: UNIT /Unidad | H5: RATE $ / Importe $ | I5: TAB | J5: TOTAL | K5: TOTAL ELIGIBLE /TOTAL ELEGIBLE | L5: % REIMBURSEMENT /% REEMBOLSO | M5: REIMBURSEMENT /REEMBOLSO | N5: DESCRIPTION /Descripción
B6: 001-01 | C6: NO | D6: Prelim Breakdown | E6: Desglose preliminar | F6: 1 | H6: 0 | I6: 1 | J6: =SUM(F6*H6) -> 0 | K6: =IF(C6="YES / SI",J6,0) -> 0 | L6: -
B7: 001-02 | C7: NO | D7: Office Expenses | E7: Gastos de Oficina | F7: 1 | H7: 0 | I7: 1 | J7: =SUM(F7*H7) -> 0 | K7: =IF(C7="YES / SI",J7,0) -> 0 | L7: -
B8: 001-03 | C8: NO | D8: Survey/Scouting | E8: Investigación/Scouting | F8: 1 | H8: 0 | I8: 1 | J8: =SUM(F8*H8) -> 0 | K8: =IF(C8="YES / SI",J8,0) -> 0 | L8: -
B9: 001-04 | C9: NO | D9: Travel Expenses | E9: Gastos de Viajes | F9: 1 | H9: 0 | I9: 1 | J9: =SUM(F9*H9) -> 0 | K9: =IF(C9="YES / SI",J9,0) -> 0 | L9: -
B10: 001-05 | C10: NO | D10: Legal | E10: Legales y Contables | F10: 1 | H10: 0 | I10: 1 | J10: =SUM(F10*H10) -> 0 | K10: =IF(C10="YES / SI",J10,0) -> 0 | L10: -
B11: 001 | D11: Subtotal DEVELOPMENT COSTS | COSTOS DE DESARROLLO - $ Uruguayos | J11: =SUM(J6:J10) -> 0 | K11: =SUM(K6:K10) -> 0 | L11: - | M11: =SUM(M6:M10) -> 0
B12: 002 | C12: ELEGIBLE? Select YES from dropdown menu / Seleccionar SI de lista desplegable | D12: STORY & RIGHTS | GUIÓN Y DERECHOS | F12: QTY /Cantidad | G12: UNIT /Unidad | H12: RATE $ / Importe $ | I12: TAB | J12: TOTAL | K12: TOTAL ELIGIBLE /TOTAL ELEGIBLE | L12: % REIMBURSEMENT /% REEMBOLSO | M12: REIMBURSEMENT /REEMBOLSO | N12: DESCRIPTION /Descripción
B13: 002-01 | C13: NO | D13: Writers | E13: Honorarios de Guionistas | F13: 1 | H13: 0 | I13: 1 | J13: =SUM(F13*H13) -> 0 | K13: =IF(C13="YES / SI",J13,0) -> 0 | L13: 0 | M13: =K13*L13 -> 0
B14: 002-02 | C14: NO | D14: Script Purchase | E14: Derechos de Guión | F14: 1 | H14: 0 | I14: 1 | J14: =SUM(F14*H14) -> 0 | K14: =IF(C14="YES / SI",J14,0) -> 0 | L14: 0 | M14: =K14*L14 -> 0
B15: 002-03 | C15: NO | D15: Script Copies | E15: Copias de Guión | F15: 1 | H15: 0 | I15: 1 | J15: =SUM(F15*H15) -> 0 | K15: =IF(C15="YES / SI",J15,0) -> 0 | L15: 0 | M15: =K15*L15 -> 0
B16: 002-04 | C16: NO | D16: Script Timing | E16: Timing de Guión | F16: 1 | H16: 0 | I16: 1 | J16: =SUM(F16*H16) -> 0 | K16: =IF(C16="YES / SI",J16,0) -> 0 | L16: 0 | M16: =K16*L16 -> 0
B17: 002-05 | C17: NO | D17: Script Clearance Report | E17: Script Clearence Report | F17: 1 | H17: 0 | I17: 1 | J17: =SUM(F17*H17) -> 0 | K17: =IF(C17="YES / SI",J17,0) -> 0 | L17: 0 | M17: =K17*L17 -> 0
B18: 002-06 | C18: NO | D18: Other Rights Purchase | E18: Otros derechos | F18: 1 | H18: 0 | I18: 1 | J18: =SUM(F18*H18) -> 0 | K18: =IF(C18="YES / SI",J18,0) -> 0 | L18: 0 | M18: =K18*L18 -> 0
B19: 002 | D19: Subtotal STORY & RIGHTS | GUIÓN Y DERECHOS - $ Uruguayos | J19: =SUM(J13:J18) -> 0 | K19: =SUM(K13:K18) -> 0 | M19: =SUM(M13:M18) -> 0
B20: 003 | C20: ELEGIBLE? Select YES from dropdown menu / Seleccionar SI de lista desplegable | D20: PRODUCERS UNIT | PRODUCCIÓN | F20: QTY /Cantidad | G20: UNIT /Unidad | H20: RATE $ / Importe $ | I20: TAB | J20: TOTAL | K20: TOTAL ELIGIBLE /TOTAL ELEGIBLE | L20: % REIMBURSEMENT /% REEMBOLSO | M20: REIMBURSEMENT /REEMBOLSO | N20: DESCRIPTION /Descripción
B21: 003-01 | C21: NO | D21: Producer | E21: Productor Ejecutivo | F21: 1 | H21: 0 | I21: 1 | J21: =SUM(F21*H21) -> 0 | K21: =IF(C21="YES / SI",J21,0) -> 0 | L21: 0.8 | M21: =K21*L21 -> 0
B22: 003-02 | C22: NO | D22: Co-Producer | E22: Co Productor Ejecutivo | F22: 1 | H22: 0 | I22: 1 | J22: =SUM(F22*H22) -> 0 | K22: =IF(C22="YES / SI",J22,0) -> 0 | L22: 0.8 | M22: =K22*L22 -> 0
B23: 003-03 | C23: NO | D23: Asst to Producers | E23: Asistentes de Producción Ejecutiva | F23: 1 | H23: 0 | I23: 1 | J23: =SUM(F23*H23) -> 0 | K23: =IF(C23="YES / SI",J23,0) -> 0 | L23: 0.8 | M23: =K23*L23 -> 0
B24: 003-04 | C24: NO | D24: Producers - Other (please detail) | E24: Producción Ejecutiva - Otros (especificar) | F24: 1 | H24: 0 | I24: 1 | J24: =SUM(F24*H24) -> 0 | K24: =IF(C24="YES / SI",J24,0) -> 0 | L24: 0.8 | M24: =K24*L24 -> 0
B25: 003 | D25: Subtotal PRODUCERS UNIT | PRODUCCIÓN - $ Uruguayos | J25: =SUM(J21:J24) -> 0 | K25: =SUM(K21:K24) -> 0 | M25: =SUM(M21:M24) -> 0
B26: 004 | C26: ELEGIBLE? Select YES from dropdown menu / Seleccionar SI de lista desplegable | D26: DIRECTOR & STAFF | DIRECCIÓN | F26: QTY /Cantidad | G26: UNIT /Unidad | H26: RATE $ / Importe $ | I26: TAB | J26: TOTAL | K26: TOTAL ELIGIBLE /TOTAL ELEGIBLE | L26: % REIMBURSEMENT /% REEMBOLSO | M26: REIMBURSEMENT /REEMBOLSO | N26: DESCRIPTION /Descripción
B27: 004-01 | C27: NO | D27: Director | E27: Director | F27: 1 | H27: 0 | I27: 1 | J27: =SUM(F27*H27) -> 0 | K27: =IF(C27="YES / SI",J27,0) -> 0 | L27: 0.8 | M27: =K27*L27 -> 0
B28: 004-02 | C28: NO | D28: Asst to Director | E28: Asistente del Director | F28: 1 | H28: 0 | I28: 1 | J28: =SUM(F28*H28) -> 0 | K28: =IF(C28="YES / SI",J28,0) -> 0 | L28: 0.8 | M28: =K28*L28 -> 0
B29: 004-03 | C29: NO | D29: Acting Coach | E29: Director de Actores | F29: 1 | H29: 0 | I29: 1 | J29: =SUM(F29*H29) -> 0 | K29: =IF(C29="YES / SI",J29,0) -> 0 | L29: 0.8 | M29: =K29*L29 -> 0
B30: 004-04 | C30: NO | D30: Storyboard Artist | E30: Dibujante de Storyboard | F30: 1 | H30: 0 | I30: 1 | J30: =SUM(F30*H30) -> 0 | K30: =IF(C30="YES / SI",J30,0) -> 0 | L30: 0.8 | M30: =K30*L30 -> 0
B31: 004-05 | C31: NO | D31: Choreographer | E31: Coreografo | F31: 1 | H31: 0 | I31: 1 | J31: =SUM(F31*H31) -> 0 | K31: =IF(C31="YES / SI",J31,0) -> 0 | L31: 0.8 | M31: =K31*L31 -> 0
B32: 004-06 | C32: NO | D32: Technical Advisor | E32: Asesor Técnico de Dirección / Consultor | F32: 1 | H32: 0 | I32: 1 | J32: =SUM(F32*H32) -> 0 | K32: =IF(C32="YES / SI",J32,0) -> 0 | L32: 0.8 | M32: =K32*L32 -> 0
B33: 004 | D33: Subtotal DIRECTOR & STAFF | DIRECCIÓN - $ Uruguayos | J33: =SUM(J27:J32) -> 0 | K33: =SUM(K27:K32) -> 0 | M33: =SUM(M27:M32) -> 0
B34: 005 | C34: ELEGIBLE? Select YES from dropdown menu / Seleccionar SI de lista desplegable | D34: CAST | ELENCO | F34: QTY /Cantidad | G34: UNIT /Unidad | H34: RATE $ / Importe $ | I34: TAB | J34: TOTAL | K34: TOTAL ELIGIBLE /TOTAL ELEGIBLE | L34: % REIMBURSEMENT /% REEMBOLSO | M34: REIMBURSEMENT /REEMBOLSO | N34: DESCRIPTION /Descripción
B35: 005-01 | C35: NO | D35: Lead Cast - Co Stars (3 leading roles) | E35: Elenco Protagónico - Coprotagónico (3 roles de igual protgonismo) | F35: 1 | H35: 0 | I35: 1 | J35: =SUM(F35*H35) -> 0 | K35: =IF(C35="YES / SI",J35,0) -> 0 | L35: 0.8 | M35: =K35*L35 -> 0
B36: 005-02 | C36: NO | D36: Supporting Cast & Day Players | E36: Elenco de Reparto y Complementario. | F36: 1 | H36: 0 | I36: 1 | J36: =SUM(F36*H36) -> 0 | K36: =IF(C36="YES / SI",J36,0) -> 0 | L36: 0.8 | M36: =K36*L36 -> 0
B37: 005-03 | C37: NO | D37: Stunts & Adjustments | E37: Dobles de riesgo | F37: 1 | H37: 0 | I37: 1 | J37: =SUM(F37*H37) -> 0 | K37: =IF(C37="YES / SI",J37,0) -> 0 | L37: 0.8 | M37: =K37*L37 -> 0
B38: 005-04 | C38: NO | D38: Casting fees | E38: Honorarios casting | F38: 1 | H38: 0 | I38: 1 | J38: =SUM(F38*H38) -> 0 | K38: =IF(C38="YES / SI",J38,0) -> 0 | L38: 0.8 | M38: =K38*L38 -> 0
B39: 005-05 | C39: NO | D39: Rehersal | E39: Ensayos | F39: 1 | H39: 0 | I39: 1 | J39: =SUM(F39*H39) -> 0 | K39: =IF(C39="YES / SI",J39,0) -> 0 | L39: 0.8 | M39: =K39*L39 -> 0
B40: 005-06 | C40: NO | D40: Fitting test | E40: Pruebas de vestuario | F40: 1 | H40: 0 | I40: 1 | J40: =SUM(F40*H40) -> 0 | K40: =IF(C40="YES / SI",J40,0) -> 0 | L40: 0.8 | M40: =K40*L40 -> 0
B41: 005-07 | C41: NO | D41: Looping / ADR | E41: Doblajes / ADR | F41: 1 | H41: 0 | I41: 1 | J41: =SUM(F41*H41) -> 0 | K41: =IF(C41="YES / SI",J41,0) -> 0 | L41: 0.8 | M41: =K41*L41 -> 0
...

Sheet 2_PRE_GPRE
B2: Please complete informaton in the yellow cells / Por favor complete la información en las celdas amarillas
D4: PRE & WRAP EXPENSES | GASTOS DE PRE PRODUCCIÓN Y CIERRE- SSUBMISSION BUDGET | PRESUPUESTO DE POSTULACIÓN
B5: 007 | C5: ELEGIBLE? Select YES from dropdown menu / Seleccionar SI de lista desplegable | D5: PRE PRODUCTION STAFF | EQUIPO DE PREPRODUCCIÓN* (Puede incluir honorarios de cierre (WRAP) para esos roles en el apartado, especificando cantidades correspondientes) | F5: QTY / Cantidad | G5: UNIT /Unidad | H5: RATE $ / Importe $ | I5: TAB | J5: TOTAL COST | K5: TOTAL ELIGIBLE /TOTAL ELEGIBLE | L5: % REIMBURSEMENT /% REEMBOLSO | M5: REIMBURSEMENT /REEMBOLSO | N5: DESCRIPTION /Descripción
B6: 007-01 | C6: NO | D6: 1st Assistant Director | E6: 1er Asistente de Dirección | F6: 1 | H6: 0 | I6: 2 | J6: =SUM(F6*H6) -> 0 | K6: =IF(C6="YES / SI",J6,0) -> 0 | L6: 0.8 | M6: =K6*L6 -> 0
B7: 007-02 | C7: NO | D7: 2nd Assistant Director | E7: 2o Asistente de Dirección | F7: 1 | H7: 0 | I7: 2 | J7: =SUM(F7*H7) -> 0 | K7: =IF(C7="YES / SI",J7,0) -> 0 | L7: 0.8 | M7: =K7*L7 -> 0
B8: 007-03 | C8: NO | D8: 3rd Assistant Director | E8: 3er Asistente de Dirección | F8: 1 | H8: 0 | I8: 2 | J8: =SUM(F8*H8) -> 0 | K8: =IF(C8="YES / SI",J8,0) -> 0 | L8: 0.8 | M8: =K8*L8 -> 0
B9: 007-04 | C9: NO | D9: Line Producer | E9: Director de Producción | F9: 1 | H9: 0 | I9: 2 | J9: =SUM(F9*H9) -> 0 | K9: =IF(C9="YES / SI",J9,0) -> 0 | L9: 0.8 | M9: =K9*L9 -> 0
B10: 007-05 | C10: NO | D10: Production Manager | E10: Jefe de Producción | F10: 1 | H10: 0 | I10: 2 | J10: =SUM(F10*H10) -> 0 | K10: =IF(C10="YES / SI",J10,0) -> 0 | L10: 0.8 | M10: =K10*L10 -> 0
B11: 007-06 | C11: NO | D11: Production Assistant 1 | E11: Asistente de Producción 1 | F11: 1 | H11: 0 | I11: 2 | J11: =SUM(F11*H11) -> 0 | K11: =IF(C11="YES / SI",J11,0) -> 0 | L11: 0.8 | M11: =K11*L11 -> 0
B12: 007-07 | C12: NO | D12: Production Assistant 2 | E12: Asistente de Producción 2 | F12: 1 | H12: 0 | I12: 2 | J12: =SUM(F12*H12) -> 0 | K12: =IF(C12="YES / SI",J12,0) -> 0 | L12: 0.8 | M12: =K12*L12 -> 0
B13: 007-08 | C13: NO | D13: Production Assistant 3 | E13: Asistente de Producción 3 | F13: 1 | H13: 0 | I13: 2 | J13: =SUM(F13*H13) -> 0 | K13: =IF(C13="YES / SI",J13,0) -> 0 | L13: 0.8 | M13: =K13*L13 -> 0
B14: 007-09 | C14: NO | D14: Runners | E14: Runners | F14: 1 | H14: 0 | I14: 2 | J14: =SUM(F14*H14) -> 0 | K14: =IF(C14="YES / SI",J14,0) -> 0 | L14: 0.8 | M14: =K14*L14 -> 0
B15: 007-10 | C15: NO | D15: Production Coordinator | E15: Coordinador de producción | F15: 1 | H15: 0 | I15: 2 | J15: =SUM(F15*H15) -> 0 | K15: =IF(C15="YES / SI",J15,0) -> 0 | L15: 0.8 | M15: =K15*L15 -> 0
B16: 007-11 | C16: NO | D16: Asst Prod Coordinator | E16: Asistente de coordinador de producción | F16: 1 | H16: 0 | I16: 2 | J16: =SUM(F16*H16) -> 0 | K16: =IF(C16="YES / SI",J16,0) -> 0 | L16: 0.8 | M16: =K16*L16 -> 0
B17: 007-12 | C17: NO | D17: Production Secretary | E17: Secretaria de Producción | F17: 1 | H17: 0 | I17: 2 | J17: =SUM(F17*H17) -> 0 | K17: =IF(C17="YES / SI",J17,0) -> 0 | L17: 0.8 | M17: =K17*L17 -> 0
... B47: 007-42 | C47: NO | D47: Animal Wrangler | E47: Entrenador de animales | F47: 1 | H47: 0 | I47: 2 | J47: =SUM(F47*H47) -> 0 | K47: =IF(C47="YES / SI",J47,0) -> 0 | L47: 0.8 | M47: =K47*L47 -> 0
B48: 007 | D48: Subtotal PRE PRODUCTION STAFF | EQUIPO DE PRE PRODUCCIÓN - $ Uruguayos | J48: =SUM(J6:J47) -> 0 | K48: =SUM(K6:K47) -> 0 | M48: =SUM(M6:M47) -> 0
B49: 008 | C49: ELEGIBLE? Select YES from dropdown menu / Seleccionar SI de lista desplegable | D49: CASTING| CASTING | E49: CASTING | CASTING | F49: QTY /Cantidad | G49: UNIT /Unidad | H49: RATE $ / Importe $ | I49: TAB | J49: TOTAL COST | K49: TOTAL ELIGIBLE /TOTAL ELEGIBLE | L49: % REIMBURSEMENT /% REEMBOLSO | M49: REIMBURSEMENT /REEMBOLSO | N49: DESCRIPTION /Descripción
B50: 008-01 | C50: NO | D50: Casting director | E50: Director de casting | F50: 1 | H50: 0 | I50: 2 | J50: =SUM(F50*H50) -> 0 | K50: =IF(C50="YES / SI",J50,0) -> 0 | L50: 0.8 | M50: =K50*L50 -> 0
B51: 008-02 | C51: NO | D51: Casting assist | E51: Asistente de casting | F51: 1 | H51: 0 | I51: 2 | J51: =SUM(F51*H51) -> 0 | K51: =IF(C51="YES / SI",J51,0) -> 0 | L51: 0.8 | M51: =K51*L51 -> 0
B52: 008-03 | C52: NO | D52: Casting expenses | E52: Gastos de casting | F52: 1 | H52: 0 | I52: 2 | J52: =SUM(F52*H52) -> 0 | K52: =IF(C52="YES / SI",J52,0) -> 0 | L52: 0.4 | M52: =K52*L52 -> 0
B53: 008-04 | C53: NO | D53: Meals casting | E53: Comidas casting | F53: 1 | H53: 0 | I53: 2 | J53: =SUM(F53*H53) -> 0 | K53: =IF(C53="YES / SI",J53,0) -> 0 | L53: 0.2 | M53: =K53*L53 -> 0
B54: 008-05 | C54: NO | D54: Others (please detail) | E54: Otros, varios (especificar) | F54: 1 | H54: 0 | I54: 2 | J54: =SUM(F54*H54) -> 0 | K54: =IF(C54="YES / SI",J54,0) -> 0 | L54: 0.4 | M54: =K54*L54 -> 0
B55: 008 | D55: Subtotal CASTING | CASTING - $ Uruguayos | J55: =SUM(J50:J54) -> 0 | K55: =SUM(K51:K53) -> 0 | M55: =SUM(M50:M54) -> 0
B56: 009 | C56: ELEGIBLE? Select YES from dropdown menu / Seleccionar SI de lista desplegable | D56: SCOUTING | SCOUTING | E56: SCOUTING | SCOUTING | F56: QTY /Cantidad | G56: UNIT /Unidad | H56: RATE $ / Importe $ | I56: TAB | J56: TOTAL COST | K56: TOTAL ELIGIBLE /TOTAL ELEGIBLE | L56: % REIMBURSEMENT /% REEMBOLSO | M56: REIMBURSEMENT /REEMBOLSO | N56: DESCRIPTION /Descripción
B57: 009-01 | C57: NO | D57: Scouting Expenses | E57: Gastos de scouting | F57: 1 | H57: 0 | I57: 2 | J57: =SUM(F57*H57) -> 0 | K57: =IF(C57="YES / SI",J57,0) -> 0 | L57: 0.4 | M57: =K57*L57 -> 0
B58: 009-02 | C58: NO | D58: Technical scout | E58: Scouting técnico | F58: 1 | H58: 0 | I58: 2 | J58: =SUM(F58*H58) -> 0 | K58: =IF(C58="YES / SI",J58,0) -> 0 | L58: 0.4 | M58: =K58*L58 -> 0
B59: 009-03 | C59: NO | D59: Meals scouting | E59: Comidas scouting | F59: 1 | H59: 0 | I59: 2 | J59: =SUM(F59*H59) -> 0 | K59: =IF(C59="YES / SI",J59,0) -> 0 | L59: 0.2 | M59: =K59*L59 -> 0
B60: 009-04 | C60: NO | D60: Others (please detail) | E60: Otros, varios (especificar) | F60: 1 | H60: 0 | I60: 2 | J60: =SUM(F60*H60) -> 0 | K60: =IF(C60="YES / SI",J60,0) -> 0 | L60: 0.4 | M60: =K60*L60 -> 0
B61: 009 | D61: Subtotal SCOUTING| SCOUTING - $ Uruguayos | J61: =SUM(J57:J60) -> 0 | K61: =SUM(K57:K60) -> 0 | M61: =SUM(M57:M60) -> 0
B62: 010 | C62: ELEGIBLE? Select YES from dropdown menu / Seleccionar SI de lista desplegable | D62: PRE PROD COST | GASTOS PRE PRODUCCION | E62: PRE PROD EXPENSES | GASTOS PRE PRODUCCION | F62: QTY /Cantidad | G62: UNIT /Unidad | H62: RATE $ / Importe $ | I62: TAB | J62: TOTAL COST | K62: TOTAL ELIGIBLE /TOTAL ELEGIBLE | L62: % REIMBURSEMENT /% REEMBOLSO | M62: REIMBURSEMENT /REEMBOLSO | N62: DESCRIPTION /Descripción
B63: 010-01 | C63: NO | D63: Office supplies | E63: Insumos de oficina | F63: 1 | H63: 0 | I63: 2 | J63: =SUM(F63*H63) -> 0 | K63: =IF(C63="YES / SI",J63,0) -> 0 | L63: 0.2 | M63: =K63*L63 -> 0
B64: 010-02 | C64: NO | D64: Comunication Phone & Internet | E64: Comunicación & Internet | F64: 1 | H64: 0 | I64: 2 | J64: =SUM(F64*H64) -> 0 | K64: =IF(C64="YES / SI",J64,0) -> 0 | L64: 0.2 | M64: =K64*L64 -> 0
B65: 010-03 | C65: NO | D65: Vehicle Rentals | E65: Alquiler de camionetas | F65: 1 | H65: 0 | I65: 2 | J65: =SUM(F65*H65) -> 0 | K65: =IF(C65="YES / SI",J65,0) -> 0 | L65: 0.2 | M65: =K65*L65 -> 0
B66: 010-04 | C66: NO | D66: Car Allowances | E66: Taxis, Uber, etc. | F66: 1 | H66: 0 | I66: 2 | J66: =SUM(F66*H66) -> 0 | K66: =IF(C66="YES / SI",J66,0) -> 0 | L66: 0.2 | M66: =K66*L66 -> 0
B67: 010-05 | C67: NO | D67: Others (please detail) | E67: Otros, varios (especificar) | F67: 1 | H67: 0 | I67: 2 | J67: =SUM(F67*H67) -> 0 | K67: =IF(C67="YES / SI",J67,0) -> 0 | L67: 0.2 | M67: =K67*L67 -> 0
B68: 010 | D68: Subtotal PRE PROD COST| GASTOS PRE PRODUCCION - $ Uruguayos | J68: =SUM(J63:J67) -> 0 | K68: =SUM(K63:K67) -> 0 | M68: =SUM(M63:M67) -> 0

Sheet 3_PE_GP
B2: Please complete informaton in the yellow cells / Por favor complete la información en las celdas amarillas
D4: PRODUCTION EXPENSES | GASTOS DE PRODUCCIÓN - SUBMISSION BUDGET | PRESUPUESTO DE POSTULACIÓN
B5: 011 | C5: ELEGIBLE? Select YES from dropdown menu / Seleccionar SI de lista desplegable | D5: PRODUCTION STAFF | EQUIPO DE PRODUCCIÓN | F5: QTY /Cantidad | G5: UNIT /Unidad | H5: RATE $ / Importe $ | I5: TAB | J5: TOTAL COST | K5: TOTAL ELIGIBLE /TOTAL ELEGIBLE | L5: % REIMBURSEMENT /% REEMBOLSO | M5: REIMBURSEMENT /REEMBOLSO | N5: DESCRIPTION /Descripción
B6: 011-01 | C6: NO | D6: 1st Assistant Director | E6: 1er Asistente de Dirección | F6: 1 | H6: 0 | I6: 3 | J6: =SUM(F6*H6) -> 0 | K6: =IF(C6="YES / SI",J6,0) -> 0 | L6: 0.8 | M6: =K6*L6 -> 0
B7: 011-02 | C7: NO | D7: 2nd Assistant Director | E7: 2o Asistente de Dirección | F7: 1 | H7: 0 | I7: 3 | J7: =SUM(F7*H7) -> 0 | K7: =IF(C7="YES / SI",J7,0) -> 0 | L7: 0.8 | M7: =K7*L7 -> 0
B8: 011-03 | C8: NO | D8: 3rd Assistant Director | E8: 3er Asistente de Dirección | F8: 1 | H8: 0 | I8: 3 | J8: =SUM(F8*H8) -> 0 | K8: =IF(C8="YES / SI",J8,0) -> 0 | L8: 0.8 | M8: =K8*L8 -> 0
B9: 011-04 | C9: NO | D9: Extras coordinator | E9: Coordinador de extras | F9: 1 | H9: 0 | I9: 3 | J9: =SUM(F9*H9) -> 0 | K9: =IF(C9="YES / SI",J9,0) -> 0 | L9: 0.8 | M9: =K9*L9 -> 0
B10: 011-05 | C10: NO | D10: Script Supervisor | E10: Continuista | F10: 1 | H10: 0 | I10: 3 | J10: =SUM(F10*H10) -> 0 | K10: =IF(C10="YES / SI",J10,0) -> 0 | L10: 0.8 | M10: =K10*L10 -> 0
B11: 011-06 | C11: NO | D11: Line Producer | E11: Director de Producción | F11: 1 | H11: 0 | I11: 3 | J11: =SUM(F11*H11) -> 0 | K11: =IF(C11="YES / SI",J11,0) -> 0 | L11: 0.8 | M11: =K11*L11 -> 0
B12: 011-07 | C12: NO | D12: Production Manager | E12: Jefe de Producción | F12: 1 | H12: 0 | I12: 3 | J12: =SUM(F12*H12) -> 0 | K12: =IF(C12="YES / SI",J12,0) -> 0 | L12: 0.8 | M12: =K12*L12 -> 0
B13: 011-08 | C13: NO | D13: Production Assistant 1 | E13: Asistente de Producción 1 | F13: 1 | H13: 0 | I13: 3 | J13: =SUM(F13*H13) -> 0 | K13: =IF(C13="YES / SI",J13,0) -> 0 | L13: 0.8 | M13: =K13*L13 -> 0
B14: 011-09 | C14: NO | D14: Production Assistant 2 | E14: Asistente de Producción 2 | F14: 1 | H14: 0 | I14: 3 | J14: =SUM(F14*H14) -> 0 | K14: =IF(C14="YES / SI",J14,0) -> 0 | L14: 0.8 | M14: =K14*L14 -> 0
B15: 011-10 | C15: NO | D15: Production Assistant 3 | E15: Asistente de Producción 3 | F15: 1 | H15: 0 | I15: 3 | J15: =SUM(F15*H15) -> 0 | K15: =IF(C15="YES / SI",J15,0) -> 0 | L15: 0.8 | M15: =K15*L15 -> 0
B16: 011-11 | C16: NO | D16: Runners | E16: Runners | F16: 1 | H16: 0 | I16: 3 | J16: =SUM(F16*H16) -> 0 | K16: =IF(C16="YES / SI",J16,0) -> 0 | L16: 0.8 | M16: =K16*L16 -> 0
B17: 011-12 | C17: NO | D17: Production Coordinator | E17: Productor de Set | F17: 1 | H17: 0 | I17: 3 | J17: =SUM(F17*H17) -> 0 | K17: =IF(C17="YES / SI",J17,0) -> 0 | L17: 0.8 | M17: =K17*L17 -> 0
... B65: 011-60 | C65: NO | D65: Other Production Crew (please detail) | E65: Otros Equipo técnico rodaje (especificar) | F65: 1 | H65: 0 | I65: 3 | J65: =SUM(F65*H65) -> 0 | K65: =IF(C65="YES / SI",J65,0) -> 0 | L65: 0.8 | M65: =K65*L65 -> 0
B66: 011 | D66: Subtotal PRODUCTION STAFF | EQUIPO DE PRODUCCIÓN - $ Uruguayos | J66: =SUM(J6:J65) -> 0 | K66: =SUM(K6:K65) -> 0 | M66: =SUM(M6:M65) -> 0
B67: 012 | C67: ELEGIBLE? Select YES from dropdown menu / Seleccionar SI de lista desplegable | D67: EXTRA TALENT | ELENCO ADICIONAL | F67: QTY /Cantidad | G67: UNIT /Unidad | H67: RATE $ / Importe $ | I67: TAB | J67: TOTAL COST | K67: TOTAL ELIGIBLE /TOTAL ELEGIBLE | L67: % REIMBURSEMENT /% REEMBOLSO | M67: REIMBURSEMENT /REEMBOLSO | N67: DESCRIPTION /Descripción
B68: 012-01 | C68: NO | D68: Stand-ins | E68: Stand-ins | F68: 1 | H68: 0 | I68: 3 | J68: =SUM(F68*H68) -> 0 | K68: =IF(C68="YES / SI",J68,0) -> 0 | L68: 0.8 | M68: =K68*L68 -> 0
B69: 012-02 | C69: NO | D69: Extras | E69: Extras | F69: 1 | H69: 0 | I69: 3 | J69: =SUM(F69*H69) -> 0 | K69: =IF(C69="YES / SI",J69,0) -> 0 | L69: 0.8 | M69: =K69*L69 -> 0
B70: 012-03 | C70: NO | D70: Dancers | E70: Bailarines | F70: 1 | H70: 0 | I70: 3 | J70: =SUM(F70*H70) -> 0 | K70: =IF(C70="YES / SI",J70,0) -> 0 | L70: 0.8 | M70: =K70*L70 -> 0
B71: 012-04 | C71: NO | D71: Stunts | E71: Dobles de riesgo | F71: 1 | H71: 0 | I71: 3 | J71: =SUM(F71*H71) -> 0 | K71: =IF(C71="YES / SI",J71,0) -> 0 | L71: 0.8 | M71: =K71*L71 -> 0
B72: 012-05 | C72: NO | D72: Stunt Equipment | E72: Equipamiento dobles de riesgo | F72: 1 | H72: 0 | I72: 3 | J72: =SUM(F72*H72) -> 0 | K72: =IF(C72="YES / SI",J72,0) -> 0 | L72: 0.8 | M72: =K72*L72 -> 0
B73: 012-06 | C73: NO | D73: Stunt coordinator | E73: Coordinador dobles de riesgo | F73: 1 | H73: 0 | I73: 2 | J73: =SUM(F73*H73) -> 0 | K73: =IF(C73="YES / SI",J73,0) -> 0 | L73: 0.8 | M73: =K73*L73 -> 0
B74: 012-07 | C74: NO | D74: Fitting / MPV / Wardrobe Expenses | E74: Gastos ,Pruebas de Vestuario, maquillaje, peluquería | F74: 1 | H74: 0 | I74: 3 | J74: =SUM(F74*H74) -> 0 | K74: =IF(C74="YES / SI",J74,0) -> 0 | L74: 0.8 | M74: =K74*L74 -> 0
B75: 012 | D75: Subtotal EXTRA TALENT | ELENCO ADICIONAL - $ Uruguayos | J75: =SUM(J68:J74) -> 0 | K75: =SUM(K68:K74) -> 0 | M75: =SUM(M68:M74) -> 0
B76: 013 | C76: ELEGIBLE? Select YES from dropdown menu / Seleccionar SI de lista desplegable | D76: SET DESIGN | DISEÑO DE SET | F76: QTY /Cantidad | G76: UNIT /Unidad | H76: RATE $ / Importe $ | I76: TAB | J76: TOTAL COST | K76: TOTAL ELIGIBLE /TOTAL ELEGIBLE | L76: % REIMBURSEMENT /% REEMBOLSO | M76: REIMBURSEMENT /REEMBOLSO | N76: DESCRIPTION /Descripción
B77: 013-01 | C77: NO | D77: Research | E77: Investigación | F77: 1 | H77: 0 | I77: 3 | J77: =SUM(F77*H77) -> 0 | K77: =IF(C77="YES / SI",J77,0) -> 0 | L77: 0.4 | M77: =K77*L77 -> 0
B78: 013-02 | C78: NO | D78: Expendables | E78: Compras - consumibles | F78: 1 | H78: 0 | I78: 3 | J78: =SUM(F78*H78) -> 0 | K78: =IF(C78="YES / SI",J78,0) -> 0 | L78: 0.4 | M78: =K78*L78 -> 0
B79: 013-03 | C79: NO | D79: Rentals | E79: Alquileres | F79: 1 | H79: 0 | I79: 3 | J79: =SUM(F79*H79) -> 0 | K79: =IF(C79="YES / SI",J79,0) -> 0 | L79: 0.4 | M79: =K79*L79 -> 0
B80: 013-04 | C80: NO | D80: Blueprints | E80: Bocetos | F80: 1 | H80: 0 | I80: 3 | J80: =SUM(F80*H80) -> 0 | K80: =IF(C80="YES / SI",J80,0) -> 0 | L80: 0.4 | M80: =K80*L80 -> 0
B81: 013-05 | C81: NO | D81: Car Allowance | E81: Taxis, Uber, etc. | F81: 1 | H81: 0 | I81: 3 | J81: =SUM(F81*H81) -> 0 | K81: =IF(C81="YES / SI",J81,0) -> 0 | L81: 0.2 | M81: =K81*L81 -> 0
B82: 013 | D82: Subtotal SET DESIGN | DISEÑO DE SET - $ Uruguayos | J82: =SUM(J77:J81) -> 0 | K82: =SUM(K77:K81) -> 0 | M82: =SUM(M77:M81) -> 0
B83: 014 | C83: ELEGIBLE? Select YES from dropdown menu / Seleccionar SI de lista desplegable | D83: SET CONSTRUCTION | CONSTRUCCIÓN DE SET | F83: QTY /Cantidad | G83: UNIT /Unidad | H83: RATE $ / Importe $ | I83: TAB | J83: TOTAL COST | K83: TOTAL ELIGIBLE /TOTAL ELEGIBLE | L83: % REIMBURSEMENT /% REEMBOLSO | M83: REIMBURSEMENT /REEMBOLSO | N83: DESCRIPTION /Descripción
B84: 014-01 | C84: NO | D84: Construction Coordinator | E84: Escenógrafos | F84: 1 | H84: 0 | I84: 3 | J84: =SUM(F84*H84) -> 0 | K84: =IF(C84="YES / SI",J84,0) -> 0 | L84: 0.4 | M84: =K84*L84 -> 0
B85: 014-02 | C85: NO | D85: Construction Labor | E85: Constructores | F85: 1 | H85: 0 | I85: 3 | J85: =SUM(F85*H85) -> 0 | K85: =IF(C85="YES / SI",J85,0) -> 0 | L85: 0.4 | M85: =K85*L85 -> 0
B86: 014-03 | C86: NO | D86: Construction Office Coordinator | E86: Carpinteros | F86: 1 | H86: 0 | I86: 3 | J86: =SUM(F86*H86) -> 0 | K86: =IF(C86="YES / SI",J86,0) -> 0 | L86: 0.4 | M86: =K86*L86 -> 0
B87: 014-04 | C87: NO | D87: Purchases | E87: Compras - consumibles | F87: 1 | H87: 0 | I87: 3 | J87: =SUM(F87*H87) -> 0 | K87: =IF(C87="YES / SI",J87,0) -> 0 | L87: 0.4 | M87: =K87*L87 -> 0
B88: 014-05 | C88: NO | D88: Tools and equipment rentals | E88: Alquiler de máquinas y herramientas | F88: 1 | H88: 0 | I88: 3 | J88: =SUM(F88*H88) -> 0 | K88: =IF(C88="YES / SI",J88,0) -> 0 | L88: 0.4 | M88: =K88*L88 -> 0
B89: 014-06 | C89: NO | D89: Paint Disposal | E89: Disposición final de pinturas | F89: 1 | H89: 0 | I89: 3 | J89: =SUM(F89*H89) -> 0 | K89: =IF(C89="YES / SI",J89,0) -> 0 | L89: 0.4 | M89: =K89*L89 -> 0
...

Sheet 4_PPE_GPP
B2: Please complete informaton in the yellow cells / Por favor complete la información en las celdas amarillas
D4: POST-PRODUCTION EXPENSES | GASTOS DE POST PRODUCCIÓN - SUBMISSION BUDGET | PRESUPUESTO DE POSTULACIÓN
B5: 027 | C5: ELEGIBLE? Select YES from dropdown menu / Seleccionar SI de lista desplegable | D5: FILM EDITING | EDICIÓN DE IMAGEN | F5: QTY /Cantidad | G5: UNIT /Unidad | H5: RATE $ / Importe $ | I5: TAB | J5: TOTAL COST | K5: TOTAL ELIGIBLE /TOTAL ELEGIBLE | L5: % REIMBURSEMENT /% REEMBOLSO | M5: REIMBURSEMENT /REEMBOLSO | N5: DESCRIPTION /Descripción
B6: 027-01 | C6: NO | D6: Post production coordinator | E6: Coordinador de post producción | F6: 1 | H6: 0 | I6: 4 | J6: =SUM(F6*H6) -> 0 | K6: =IF(C6="YES / SI",J6,0) -> 0 | L6: 0.8 | M6: =K6*L6 -> 0
B7: 027-02 | C7: NO | D7: Editor | E7: Editor | F7: 1 | H7: 0 | I7: 4 | J7: =SUM(F7*H7) -> 0 | K7: =IF(C7="YES / SI",J7,0) -> 0 | L7: 0.8 | M7: =K7*L7 -> 0
B8: 027-03 | C8: NO | D8: Asst Editor | E8: As Editor | F8: 1 | H8: 0 | I8: 4 | J8: =SUM(F8*H8) -> 0 | K8: =IF(C8="YES / SI",J8,0) -> 0 | L8: 0.8 | M8: =K8*L8 -> 0
B9: 027-04 | C9: NO | D9: Music Editor | E9: Editor de Música | F9: 1 | H9: 0 | I9: 4 | J9: =SUM(F9*H9) -> 0 | K9: =IF(C9="YES / SI",J9,0) -> 0 | L9: 0.8 | M9: =K9*L9 -> 0
B10: 027-05 | C10: NO | D10: Music Editor Room & Equipment | E10: Estudio de edición de Música y equipamiento | F10: 1 | H10: 0 | I10: 4 | J10: =SUM(F10*H10) -> 0 | K10: =IF(C10="YES / SI",J10,0) -> 0 | L10: 0.6 | M10: =K10*L10 -> 0
B11: 027-06 | C11: NO | D11: Post Prod Accountant | E11: Contador de Postproducción | F11: 1 | H11: 0 | I11: 4 | J11: =SUM(F11*H11) -> 0 | K11: =IF(C11="YES / SI",J11,0) -> 0 | L11: 0.8 | M11: =K11*L11 -> 0
B12: 027-07 | C12: NO | D12: Messenger | E12: Mensajero | F12: 1 | H12: 0 | I12: 4 | J12: =SUM(F12*H12) -> 0 | K12: =IF(C12="YES / SI",J12,0) -> 0 | L12: 0.8 | M12: =K12*L12 -> 0
B13: 027-08 | C13: NO | D13: Expendables | E13: Consumibles | F13: 1 | H13: 0 | I13: 4 | J13: =SUM(F13*H13) -> 0 | K13: =IF(C13="YES / SI",J13,0) -> 0 | L13: 0.6 | M13: =K13*L13 -> 0
B14: 027-09 | C14: NO | D14: Cutting Room | E14: Isla de edición | F14: 1 | H14: 0 | I14: 4 | J14: =SUM(F14*H14) -> 0 | K14: =IF(C14="YES / SI",J14,0) -> 0 | L14: 0.6 | M14: =K14*L14 -> 0
B15: 027-10 | C15: NO | D15: Equipment Rentals | E15: Alquiler de equipamiento | F15: 1 | H15: 0 | I15: 4 | J15: =SUM(F15*H15) -> 0 | K15: =IF(C15="YES / SI",J15,0) -> 0 | L15: 0.6 | M15: =K15*L15 -> 0
B16: 027-11 | C16: NO | D16: Other | E16: Otros , varios | F16: 1 | H16: 0 | I16: 4 | J16: =SUM(F16*H16) -> 0 | K16: =IF(C16="YES / SI",J16,0) -> 0 | L16: 0.6 | M16: =K16*L16 -> 0
B17: 027 | D17: Subtotal FILM EDITING | EDICIÓN DE IMAGEN - $ Uruguayos | J17: =SUM(J6:J16) -> 0 | K17: =SUM(K6:K16) -> 0 | M17: =SUM(M6:M16) -> 0
B18: 028 | C18: ELEGIBLE? Select YES from dropdown menu / Seleccionar SI de lista desplegable | D18: MUSIC | MÚSICA | F18: QTY /Cantidad | G18: UNIT /Unidad | H18: RATE $ / Importe $ | I18: TAB | J18: TOTAL COST | K18: TOTAL ELIGIBLE /TOTAL ELEGIBLE | L18: % REIMBURSEMENT /% REEMBOLSO | M18: REIMBURSEMENT /REEMBOLSO | N18: DESCRIPTION /Descripción
B19: 028-01 | C19: NO | D19: Music Supervisor | E19: Supervisor de Música | F19: 1 | H19: 0 | I19: 4 | J19: =SUM(F19*H19) -> 0 | K19: =IF(C19="YES / SI",J19,0) -> 0 | L19: 0.8 | M19: =K19*L19 -> 0
B20: 028-02 | C20: NO | D20: Composer Fee | E20: Compositor | F20: 1 | H20: 0 | I20: 4 | J20: =SUM(F20*H20) -> 0 | K20: =IF(C20="YES / SI",J20,0) -> 0 | L20: 0.8 | M20: =K20*L20 -> 0
B21: 028-03 | C21: NO | D21: Musicians | E21: Musicos | F21: 1 | H21: 0 | I21: 4 | J21: =SUM(F21*H21) -> 0 | K21: =IF(C21="YES / SI",J21,0) -> 0 | L21: 0.8 | M21: =K21*L21 -> 0
B22: 028-04 | C22: NO | D22: Singers | E22: Cantantes | F22: 1 | H22: 0 | I22: 4 | J22: =SUM(F22*H22) -> 0 | K22: =IF(C22="YES / SI",J22,0) -> 0 | L22: 0.8 | M22: =K22*L22 -> 0
B23: 028-05 | C23: NO | D23: Song Writers | E23: Letristas | F23: 1 | H23: 0 | I23: 4 | J23: =SUM(F23*H23) -> 0 | K23: =IF(C23="YES / SI",J23,0) -> 0 | L23: 0.8 | M23: =K23*L23 -> 0
B24: 028-06 | C24: NO | D24: Music Rights | E24: Derechos de Música | F24: 1 | H24: 0 | I24: 4 | J24: =SUM(F24*H24) -> 0 | K24: =IF(C24="YES / SI",J24,0) -> 0 | L24: 0.8 | M24: =K24*L24 -> 0
B25: 028-07 | C25: NO | D25: Clearance & Legal | E25: Otras autorizaciones & licencias | F25: 1 | H25: 0 | I25: 4 | J25: =SUM(F25*H25) -> 0 | K25: =IF(C25="YES / SI",J25,0) -> 0 | L25: 0.8 | M25: =K25*L25 -> 0
B26: 028-08 | C26: NO | D26: Original Song Purchase | E26: Adquisición de derechos de obras preexistentes | F26: 1 | H26: 0 | I26: 4 | J26: =SUM(F26*H26) -> 0 | K26: =IF(C26="YES / SI",J26,0) -> 0 | L26: 0.8 | M26: =K26*L26 -> 0
B27: 028-09 | C27: NO | D27: Recording Facility & Labor | E27: Estudio de grabación y operarios | F27: 1 | H27: 0 | I27: 4 | J27: =SUM(F27*H27) -> 0 | K27: =IF(C27="YES / SI",J27,0) -> 0 | L27: 0.6 | M27: =K27*L27 -> 0
B28: 028 | D28: Subtotal MUSIC | MÚSICA - $ Uruguayos | J28: =SUM(J19:J27) -> 0 | K28: =SUM(K19:K27) -> 0 | M28: =SUM(M19:M27) -> 0
B29: 029 | C29: ELEGIBLE? Select YES from dropdown menu / Seleccionar SI de lista desplegable | D29: VISUAL EFFECTS | EFECTOS VISUALES | F29: QTY /Cantidad | G29: UNIT /Unidad | H29: RATE $ / Importe $ | I29: TAB | J29: TOTAL COST | K29: TOTAL ELIGIBLE /TOTAL ELEGIBLE | L29: % REIMBURSEMENT /% REEMBOLSO | M29: REIMBURSEMENT /REEMBOLSO | N29: DESCRIPTION /Descripción
B30: 029-01 | C30: NO | D30: Effects Supervisor | E30: Supervisor de Efectos | F30: 1 | H30: 0 | I30: 4 | J30: =SUM(F30*H30) -> 0 | K30: =IF(C30="YES / SI",J30,0) -> 0 | L30: 0.8 | M30: =K30*L30 -> 0
B31: 029-02 | C31: NO | D31: CGI | E31: CGI | F31: 1 | H31: 0 | I31: 4 | J31: =SUM(F31*H31) -> 0 | K31: =IF(C31="YES / SI",J31,0) -> 0 | L31: 0.6 | M31: =K31*L31 -> 0
B32: 029-03 | C32: NO | D32: Transfers | E32: Transfers | F32: 1 | H32: 0 | I32: 4 | J32: =SUM(F32*H32) -> 0 | K32: =IF(C32="YES / SI",J32,0) -> 0 | L32: 0.6 | M32: =K32*L32 -> 0
B33: 029-04 | C33: NO | D33: Conversions | E33: Conversiones | F33: 1 | H33: 0 | I33: 4 | J33: =SUM(F33*H33) -> 0 | K33: =IF(C33="YES / SI",J33,0) -> 0 | L33: 0.6 | M33: =K33*L33 -> 0
B34: 029-05 | C34: NO | D34: Other | E34: Otros | F34: 1 | H34: 0 | I34: 4 | J34: =SUM(F34*H34) -> 0 | K34: =IF(C34="YES / SI",J34,0) -> 0 | L34: 0.6 | M34: =K34*L34 -> 0
B35: 029 | D35: Subtotal VISUAL EFFECTS | EFECTOS VISUALES - $ Uruguayos | J35: =SUM(J30:J34) -> 0 | K35: =SUM(K30:K34) -> 0 | M35: =SUM(M30:M34) -> 0
B36: 030 | C36: ELEGIBLE? Select YES from dropdown menu / Seleccionar SI de lista desplegable | D36: POST PRODUCTION SOUND | POST PRODUCCIÓN DE SONIDO | F36: QTY /Cantidad | G36: UNIT /Unidad | H36: RATE $ / Importe $ | I36: TAB | J36: TOTAL COST | K36: TOTAL ELIGIBLE /TOTAL ELEGIBLE | L36: % REIMBURSEMENT /% REEMBOLSO | M36: REIMBURSEMENT /REEMBOLSO | N36: DESCRIPTION /Descripción
B37: 030-01 | C37: NO | D37: Post Sound Package | E37: Paquete post producción de sonido | F37: 1 | H37: 0 | I37: 4 | J37: =SUM(F37*H37) -> 0 | K37: =IF(C37="YES / SI",J37,0) -> 0 | L37: 0.6 | M37: =K37*L37 -> 0
B38: 030-02 | C38: NO | D38: ADR Facilities & Labor | E38: Estudio de doblaje y operarios | F38: 1 | H38: 0 | I38: 4 | J38: =SUM(F38*H38) -> 0 | K38: =IF(C38="YES / SI",J38,0) -> 0 | L38: 0.6 | M38: =K38*L38 -> 0
B39: 030-03 | C39: NO | D39: Foley Sound FX | E39: FX Sonido Foley | F39: 1 | H39: 0 | I39: 4 | J39: =SUM(F39*H39) -> 0 | K39: =IF(C39="YES / SI",J39,0) -> 0 | L39: 0.6 | M39: =K39*L39 -> 0
B40: 030-04 | C40: NO | D40: License Fees | E40: Licencias | F40: 1 | H40: 0 | I40: 4 | J40: =SUM(F40*H40) -> 0 | K40: =IF(C40="YES / SI",J40,0) -> 0 | L40: 0.6 | M40: =K40*L40 -> 0
B41: 030-05 | C41: NO | D41: Other | E41: Otros | F41: 1 | H41: 0 | I41: 4 | J41: =SUM(F41*H41) -> 0 | K41: =IF(C41="YES / SI",J41,0) -> 0 | L41: 0.6 | M41: =K41*L41 -> 0
B42: 030 | D42: Subtotal POST PRODUCTION SOUND | POST PRODUCCIÓN DE SONIDO - $ Uruguayos | J42: =SUM(J37:J41) -> 0 | K42: =SUM(K37:K41) -> 0 | M42: =SUM(M37:M41) -> 0
...

Sheet 5_OE_OG
B2: Please complete informaton in the yellow cells / Por favor complete la información en las celdas amarillas
D4: OTHER EXPENSES | OTROS GASTOS - SUBMISSION BUDGET | PRESUPUESTO DE POSTULACIÓN
B5: 032 | C5: ELEGIBLE? Select YES from dropdown menu / Seleccionar SI de lista desplegable | D5: LEGAL & ACCOUNTING | LEGAL & CONTABLE | F5: QTY /Cantidad | G5: UNIT /Unidad | H5: RATE $ / Importe $ | I5: TAB | J5: TOTAL COST | K5: TOTAL ELIGIBLE /TOTAL ELEGIBLE | L5: % REIMBURSEMENT /% REEMBOLSO | M5: REIMBURSEMENT /REEMBOLSO | N5: DESCRIPTION /Descripción
B6: 032-01 | C6: NO | D6: Production Legal | E6: Abogado de la producción | F6: 1 | H6: 0 | I6: 5 | J6: =SUM(F6*H6) -> 0 | K6: =IF(C6="YES / SI",J6,0) -> 0 | L6: 0.2 | M6: =K6*L6 -> 0
B7: 032-02 | C7: NO | D7: Outside Legal | E7: Abogado especialista | F7: 1 | H7: 0 | I7: 5 | J7: =SUM(F7*H7) -> 0 | K7: =IF(C7="YES / SI",J7,0) -> 0 | L7: 0.2 | M7: =K7*L7 -> 0
B8: 032-03 | C8: NO | D8: Custom Broker | E8: Despachante de Aduanas | F8: 1 | H8: 0 | I8: 5 | J8: =SUM(F8*H8) -> 0 | K8: =IF(C8="YES / SI",J8,0) -> 0 | L8: 0.2 | M8: =K8*L8 -> 0
B9: 032-04 | C9: NO | D9: Post Accounting | E9: Cierre contable | F9: 1 | H9: 0 | I9: 5 | J9: =SUM(F9*H9) -> 0 | K9: =IF(C9="YES / SI",J9,0) -> 0 | L9: 0.2 | M9: =K9*L9 -> 0
B10: 032-05 | C10: NO | D10: Accounting Software | E10: Software contable | F10: 1 | H10: 0 | I10: 5 | J10: =SUM(F10*H10) -> 0 | K10: =IF(C10="YES / SI",J10,0) -> 0 | L10: 0.2 | M10: =K10*L10 -> 0
B11: 032-06 | C11: NO | D11: Audits | E11: Auditoría | F11: 1 | H11: 0 | I11: 5 | J11: =SUM(F11*H11) -> 0 | K11: =IF(C11="YES / SI",J11,0) -> 0 | L11: 0.2 | M11: =K11*L11 -> 0
B12: 032-07 | C12: NO | D12: Accounting Adminstration | E12: Administración contable | F12: 1 | H12: 0 | I12: 5 | J12: =SUM(F12*H12) -> 0 | K12: =IF(C12="YES / SI",J12,0) -> 0 | L12: 0.2 | M12: =K12*L12 -> 0
B13: 032-08 | C13: NO | D13: Bank charges | E13: Gastos bancarios | F13: 1 | H13: 0 | I13: 5 | J13: =SUM(F13*H13) -> 0 | K13: =IF(C13="YES / SI",J13,0) -> 0 | L13: 0 | M13: =K13*L13 -> 0
B14: 032-09 | C14: NO | D14: Other | E14: Otros, varios | F14: 1 | H14: 0 | I14: 5 | J14: =SUM(F14*H14) -> 0 | K14: =IF(C14="YES / SI",J14,0) -> 0 | L14: 0.2 | M14: =K14*L14 -> 0
B15: 032 | D15: Subtotal LEGAL & ACCOUNTING | LEGAL & CONTABLE - $ Uruguayos | J15: =SUM(J6:J14) -> 0 | K15: =SUM(K6:K14) -> 0 | M15: =SUM(M6:M14) -> 0
B16: 033 | C16: ELEGIBLE? Select YES from dropdown menu / Seleccionar SI de lista desplegable | D16: GENERAL EXPENSE | GASTOS OPERATIVOS | F16: QTY /Cantidad | G16: UNIT /Unidad | H16: RATE $ / Importe $ | I16: TAB | J16: TOTAL COST | K16: TOTAL ELIGIBLE /TOTAL ELEGIBLE | L16: % REIMBURSEMENT /% REEMBOLSO | M16: REIMBURSEMENT /REEMBOLSO | N16: DESCRIPTION /Descripción
B17: 033-01 | C17: NO | D17: Production Office Lease | E17: Alquiler Oficina de Producción | F17: 1 | H17: 0 | I17: 5 | J17: =SUM(F17*H17) -> 0 | K17: =IF(C17="YES / SI",J17,0) -> 0 | L17: 0.2 | M17: =K17*L17 -> 0
B18: 033-02 | C18: NO | D18: Shipping & Postage | E18: Cadetería | F18: 1 | H18: 0 | I18: 5 | J18: =SUM(F18*H18) -> 0 | K18: =IF(C18="YES / SI",J18,0) -> 0 | L18: 0.2 | M18: =K18*L18 -> 0
B19: 033-03 | C19: NO | D19: Copier | E19: Impresoras | F19: 1 | H19: 0 | I19: 5 | J19: =SUM(F19*H19) -> 0 | K19: =IF(C19="YES / SI",J19,0) -> 0 | L19: 0.2 | M19: =K19*L19 -> 0
B20: 033-04 | C20: NO | D20: Production Office Supplies | E20: Insumos de Oficina | F20: 1 | H20: 0 | I20: 5 | J20: =SUM(F20*H20) -> 0 | K20: =IF(C20="YES / SI",J20,0) -> 0 | L20: 0.2 | M20: =K20*L20 -> 0
B21: 033-05 | C21: NO | D21: Furniture & Equipment Rentals | E21: Mobiliario de Oficina | F21: 1 | H21: 0 | I21: 5 | J21: =SUM(F21*H21) -> 0 | K21: =IF(C21="YES / SI",J21,0) -> 0 | L21: 0.2 | M21: =K21*L21 -> 0
B22: 033-06 | C22: NO | D22: Phone & Communication Rentals | E22: Teléfonos | F22: 1 | H22: 0 | I22: 5 | J22: =SUM(F22*H22) -> 0 | K22: =IF(C22="YES / SI",J22,0) -> 0 | L22: 0.2 | M22: =K22*L22 -> 0
B23: 033-07 | C23: NO | D23: Internet Connectivity | E23: Internet | F23: 1 | H23: 0 | I23: 5 | J23: =SUM(F23*H23) -> 0 | K23: =IF(C23="YES / SI",J23,0) -> 0 | L23: 0.2 | M23: =K23*L23 -> 0
B24: 033-08 | C24: NO | D24: Others | E24: Otros , varios | F24: 1 | H24: 0 | I24: 5 | J24: =SUM(F24*H24) -> 0 | K24: =IF(C24="YES / SI",J24,0) -> 0 | L24: 0.2 | M24: =K24*L24 -> 0
B25: 033 | D25: Subtotal GENERAL EXPENSE | GASTOS OPERATIVOS - $ Uruguayos | J25: =SUM(J17:J24) -> 0 | K25: =SUM(K17:K24) -> 0 | M25: =SUM(M17:M24) -> 0
B26: 034 | C26: ELEGIBLE? Select YES from dropdown menu / Seleccionar SI de lista desplegable | D26: INSURANCE | SEGUROS | F26: QTY /Cantidad | G26: UNIT /Unidad | H26: RATE $ / Importe $ | I26: TAB | J26: TOTAL COST | K26: TOTAL ELIGIBLE /TOTAL ELEGIBLE | L26: % REIMBURSEMENT /% REEMBOLSO | M26: REIMBURSEMENT /REEMBOLSO | N26: DESCRIPTION /Descripción
B27: 034-01 | C27: NO | D27: Insurance Policy Package | E27: Poliza de seguros global | F27: 1 | H27: 0 | I27: 5 | J27: =SUM(F27*H27) -> 0 | K27: =IF(C27="YES / SI",J27,0) -> 0 | L27: 0.2 | M27: =K27*L27 -> 0
B28: 034-02 | C28: NO | D28: Insurance - Others | E28: Otros Seguros | F28: 1 | H28: 0 | I28: 5 | J28: =SUM(F28*H28) -> 0 | K28: =IF(C28="YES / SI",J28,0) -> 0 | L28: 0.2 | M28: =K28*L28 -> 0
B29: 034-03 | C29: NO | D29: Insurance Exams | E29: Pericias, inspecciones | F29: 1 | H29: 0 | I29: 5 | J29: =SUM(F29*H29) -> 0 | K29: =IF(C29="YES / SI",J29,0) -> 0 | L29: 0.2 | M29: =K29*L29 -> 0
B30: 034 | D30: Subtotal INSURANCE | SEGUROS - $ Uruguayos | J30: =SUM(J27:J29) -> 0 | K30: =SUM(K27:K29) -> 0 | M30: =SUM(M27:M29) -> 0
